BEGIN:VCALENDAR
PRODID:-//Solspace/Calendar 2.x//EN
VERSION:2.0
CALSCALE:GREGORIAN
BEGIN:VEVENT
UID:9c93b10e0b9d0fa86f0fbc3dc8884d1d@solspace.com
DTSTAMP:20260420T082023
DESCRIPTION:Office Closed
DTSTART:20250630T080000
DTEND:20250704T233000
SUMMARY:July 4th Holiday Week
END:VEVENT
END:VCALENDAR
