BEGIN:VCALENDAR
PRODID:-//Solspace/Calendar 2.x//EN
VERSION:2.0
CALSCALE:GREGORIAN
BEGIN:VEVENT
UID:532a741e84886ae0c788f7455157c07b@solspace.com
DTSTAMP:20260421T100223
DTSTART:20250926T193000
DTEND:20250926T203000
SUMMARY:Varsity Football vs. Augusta Prep
END:VEVENT
END:VCALENDAR
