BEGIN:VCALENDAR
PRODID:-//Solspace/Calendar 2.x//EN
VERSION:2.0
CALSCALE:GREGORIAN
BEGIN:VEVENT
UID:feaecef9145a71d0c734217a9096492d@solspace.com
DTSTAMP:20260420T095410
DESCRIPTION:6:00pm-7:00pm
DTSTART;VALUE=DATE:20250812
DTEND;VALUE=DATE:20250813
SUMMARY:New Parent Night
END:VEVENT
END:VCALENDAR
