BEGIN:VCALENDAR
PRODID:-//Solspace/Calendar 2.x//EN
VERSION:2.0
CALSCALE:GREGORIAN
BEGIN:VEVENT
UID:aa0bf04997f0e1d5e29e588860ae3029@solspace.com
DTSTAMP:20260419T131722
DESCRIPTION:School Closed
DTSTART;VALUE=DATE:20250901
DTEND;VALUE=DATE:20250902
SUMMARY:Labor Day Holiday
END:VEVENT
END:VCALENDAR
