BEGIN:VCALENDAR
PRODID:-//Solspace/Calendar 2.x//EN
VERSION:2.0
CALSCALE:GREGORIAN
BEGIN:VEVENT
UID:277e9e5793bac94fac70b256f5b75482@solspace.com
DTSTAMP:20260420T134645
DTSTART:20250815T071500
DTEND:20250815T080000
SUMMARY:Senior Breakfast
END:VEVENT
END:VCALENDAR
