BEGIN:VCALENDAR
PRODID:-//Solspace/Calendar 2.x//EN
VERSION:2.0
CALSCALE:GREGORIAN
BEGIN:VEVENT
UID:0a2d8da44ef0dc231fd392f248af5071@solspace.com
DTSTAMP:20260420T083044
DTSTART:20250822T133000
DTEND:20250822T143000
SUMMARY:Fall Sports picture retake
END:VEVENT
END:VCALENDAR
